Package: RTCGA.rnaseq Version: 20151101.32.0 Command: /home/biocbuild/bbs-3.18-bioc/R/bin/R CMD build --keep-empty-dirs --no-resave-data RTCGA.rnaseq StartedAt: 2024-04-16 10:50:22 -0400 (Tue, 16 Apr 2024) EndedAt: 2024-04-16 10:54:56 -0400 (Tue, 16 Apr 2024) EllapsedTime: 274.1 seconds RetCode: 0 Status: OK PackageFile: RTCGA.rnaseq_20151101.32.0.tar.gz PackageFileSize: 612.6 MiB