Package: RTCGA.rnaseq Version: 20151101.32.0 Maintainer: Marcin Kosinski MaintainerEmail: m.p.kosinski at gmail.com git_url: https://git.bioconductor.org/packages/RTCGA.rnaseq git_branch: RELEASE_3_18 git_last_commit: 1f62f3c git_last_commit_date: 2023-10-24 09:11:06 -0400 (Tue, 24 Oct 2023)