Package: RNAmodR.Data Version: 1.16.0 Command: /home/biocbuild/bbs-3.18-bioc/R/bin/R CMD INSTALL RNAmodR.Data StartedAt: 2024-04-16 10:12:55 -0400 (Tue, 16 Apr 2024) EndedAt: 2024-04-16 10:13:38 -0400 (Tue, 16 Apr 2024) EllapsedTime: 43.5 seconds RetCode: 0 Status: OK