Package: RGMQLlib Version: 1.22.0 Maintainer: Simone Pallotta MaintainerEmail: simonepallotta at hotmail.com git_url: https://git.bioconductor.org/packages/RGMQLlib git_branch: RELEASE_3_18 git_last_commit: 3dcb028 git_last_commit_date: 2023-10-24 09:17:26 -0400 (Tue, 24 Oct 2023)