Package: QDNAseq.hg19 Version: 1.32.0 Command: /home/biocbuild/bbs-3.18-bioc/R/bin/R CMD build --keep-empty-dirs --no-resave-data QDNAseq.hg19 StartedAt: 2024-04-16 10:47:28 -0400 (Tue, 16 Apr 2024) EndedAt: 2024-04-16 10:47:32 -0400 (Tue, 16 Apr 2024) EllapsedTime: 3.3 seconds RetCode: 0 Status: OK PackageFile: QDNAseq.hg19_1.32.0.tar.gz PackageFileSize: 35.26 MiB