Package: QDNAseq.hg19 Version: 1.32.0 Maintainer: Daoud Sie MaintainerEmail: d.sie at vumc.nl git_url: https://git.bioconductor.org/packages/QDNAseq.hg19 git_branch: RELEASE_3_18 git_last_commit: 6a5bd78 git_last_commit_date: 2023-10-24 09:11:20 -0400 (Tue, 24 Oct 2023)