Package: HiCDataHumanIMR90 Version: 1.22.0 Command: /home/biocbuild/bbs-3.18-bioc/R/bin/R CMD build --keep-empty-dirs --no-resave-data HiCDataHumanIMR90 StartedAt: 2024-04-16 10:34:49 -0400 (Tue, 16 Apr 2024) EndedAt: 2024-04-16 10:35:36 -0400 (Tue, 16 Apr 2024) EllapsedTime: 46.8 seconds RetCode: 0 Status: OK PackageFile: HiCDataHumanIMR90_1.22.0.tar.gz PackageFileSize: 70.63 MiB