Package: HCATonsilData Version: 1.0.0 Command: /home/biocbuild/bbs-3.18-bioc/R/bin/R CMD INSTALL HCATonsilData StartedAt: 2024-04-16 10:11:59 -0400 (Tue, 16 Apr 2024) EndedAt: 2024-04-16 10:12:30 -0400 (Tue, 16 Apr 2024) EllapsedTime: 31.0 seconds RetCode: 0 Status: OK