Package: HCATonsilData Version: 1.0.0 Command: /home/biocbuild/bbs-3.18-bioc/R/bin/R CMD check --install=check:HCATonsilData.install-out.txt --library=/home/biocbuild/bbs-3.18-bioc/R/site-library --timings HCATonsilData_1.0.0.tar.gz StartedAt: 2024-04-16 11:37:52 -0400 (Tue, 16 Apr 2024) EndedAt: 2024-04-16 11:43:33 -0400 (Tue, 16 Apr 2024) EllapsedTime: 340.7 seconds RetCode: 0 Status: OK CheckDir: HCATonsilData.Rcheck Warnings: 0