Package: HCATonsilData Version: 1.0.0 Command: /home/biocbuild/bbs-3.18-bioc/R/bin/R CMD build --keep-empty-dirs --no-resave-data HCATonsilData StartedAt: 2024-04-16 10:33:23 -0400 (Tue, 16 Apr 2024) EndedAt: 2024-04-16 10:34:32 -0400 (Tue, 16 Apr 2024) EllapsedTime: 69.8 seconds RetCode: 0 Status: OK PackageFile: HCATonsilData_1.0.0.tar.gz PackageFileSize: 6.258 MiB