Package: synaptome.db Version: 0.99.15 Command: /home/biocbuild/bbs-3.18-bioc/R/bin/R CMD check --install=check:synaptome.db.install-out.txt --library=/home/biocbuild/bbs-3.18-bioc/R/site-library --timings synaptome.db_0.99.15.tar.gz StartedAt: 2024-04-17 06:35:38 -0400 (Wed, 17 Apr 2024) EndedAt: 2024-04-17 06:39:41 -0400 (Wed, 17 Apr 2024) EllapsedTime: 242.2 seconds RetCode: 0 Status: OK CheckDir: synaptome.db.Rcheck Warnings: 0