Package: synaptome.db Version: 0.99.15 Command: /home/biocbuild/bbs-3.18-bioc/R/bin/R CMD build --keep-empty-dirs --no-resave-data synaptome.db StartedAt: 2024-04-17 06:32:24 -0400 (Wed, 17 Apr 2024) EndedAt: 2024-04-17 06:33:26 -0400 (Wed, 17 Apr 2024) EllapsedTime: 62.0 seconds RetCode: 0 Status: OK PackageFile: synaptome.db_0.99.15.tar.gz PackageFileSize: 193.6 KiB