Package: UniProtKeywords Version: 0.99.7 Command: /home/biocbuild/bbs-3.18-bioc/R/bin/R CMD build --keep-empty-dirs --no-resave-data UniProtKeywords StartedAt: 2024-04-17 06:32:31 -0400 (Wed, 17 Apr 2024) EndedAt: 2024-04-17 06:32:34 -0400 (Wed, 17 Apr 2024) EllapsedTime: 3.4 seconds RetCode: 0 Status: OK PackageFile: UniProtKeywords_0.99.7.tar.gz PackageFileSize: 1.173 MiB