Package: EpiTxDb.Hs.hg38 Version: 0.99.7 Command: /home/biocbuild/bbs-3.18-bioc/R/bin/R CMD INSTALL EpiTxDb.Hs.hg38 StartedAt: 2024-04-17 06:30:27 -0400 (Wed, 17 Apr 2024) EndedAt: 2024-04-17 06:31:09 -0400 (Wed, 17 Apr 2024) EllapsedTime: 42.4 seconds RetCode: 0 Status: OK