Package: EpiTxDb.Hs.hg38 Version: 0.99.7 Command: /home/biocbuild/bbs-3.18-bioc/R/bin/R CMD check --install=check:EpiTxDb.Hs.hg38.install-out.txt --library=/home/biocbuild/bbs-3.18-bioc/R/site-library --timings EpiTxDb.Hs.hg38_0.99.7.tar.gz StartedAt: 2024-04-17 06:33:32 -0400 (Wed, 17 Apr 2024) EndedAt: 2024-04-17 06:38:58 -0400 (Wed, 17 Apr 2024) EllapsedTime: 325.7 seconds RetCode: 0 Status: OK CheckDir: EpiTxDb.Hs.hg38.Rcheck Warnings: 0