Package: EpiTxDb.Hs.hg38 Version: 0.99.7 Command: /home/biocbuild/bbs-3.18-bioc/R/bin/R CMD build --keep-empty-dirs --no-resave-data EpiTxDb.Hs.hg38 StartedAt: 2024-04-17 06:31:17 -0400 (Wed, 17 Apr 2024) EndedAt: 2024-04-17 06:32:27 -0400 (Wed, 17 Apr 2024) EllapsedTime: 70.0 seconds RetCode: 0 Status: OK PackageFile: EpiTxDb.Hs.hg38_0.99.7.tar.gz PackageFileSize: 316.6 KiB