Package: tkWidgets Version: 1.79.0 Command: /home/biocbuild/bbs-3.18-bioc/R/bin/R CMD INSTALL tkWidgets StartedAt: 2023-06-17 01:15:30 -0400 (Sat, 17 Jun 2023) EndedAt: 2023-06-17 01:15:36 -0400 (Sat, 17 Jun 2023) EllapsedTime: 6.0 seconds RetCode: 0 Status: OK