Package: tkWidgets Version: 1.81.0 Command: /home/biocbuild/bbs-3.18-bioc/R/bin/Rscript -e "BiocCheck::BiocCheck('tkWidgets_1.81.0.tar.gz')" StartedAt: 2023-10-24 10:48:38 -0400 (Tue, 24 Oct 2023) EndedAt: 2023-10-24 10:49:06 -0400 (Tue, 24 Oct 2023) EllapsedTime: 27.9 seconds RetCode: None Status: ERROR Warnings: 3