Package: ggbio Version: 1.50.0 Command: /home/hpages/bbs-3.18-bioc-R41/R/bin/R CMD build --keep-empty-dirs --no-resave-data ggbio StartedAt: 2024-03-08 15:45:45 -0500 (Fri, 08 Mar 2024) EndedAt: 2024-03-08 15:51:19 -0500 (Fri, 08 Mar 2024) EllapsedTime: 333.8 seconds RetCode: 0 Status: OK PackageFile: ggbio_1.50.0.tar.gz PackageFileSize: 3.097 MiB