############################################################################## ############################################################################## ### ### Running command: ### ### /home/hpages/bbs-3.18-bioc/R/bin/R CMD build --keep-empty-dirs --no-resave-data basilisk ### ############################################################################## ############################################################################## * checking for file ‘basilisk/DESCRIPTION’ ... OK * preparing ‘basilisk’: * checking DESCRIPTION meta-information ... OK * installing the package to build vignettes ----------------------------------- ERROR: dependencies ‘dir.expiry’, ‘basilisk.utils’ are not available for package ‘basilisk’ * removing ‘/tmp/Rtmpsc4wUw/Rinst6156e2239503a/basilisk’ ----------------------------------- ERROR: package installation failed