Package: SingleCellExperiment Version: 1.24.0 Command: /home/hpages/bbs-3.18-bioc-R41/R/bin/R CMD check --install=check:SingleCellExperiment.install-out.txt --library=/home/hpages/bbs-3.18-bioc-R41/R/site-library --timings SingleCellExperiment_1.24.0.tar.gz StartedAt: 2024-03-08 16:15:47 -0500 (Fri, 08 Mar 2024) EndedAt: 2024-03-08 16:21:13 -0500 (Fri, 08 Mar 2024) EllapsedTime: 325.6 seconds RetCode: 0 Status: OK CheckDir: SingleCellExperiment.Rcheck Warnings: 0