Package: SingleCellExperiment Version: 1.23.0 Command: /home/biocbuild/bbs-3.18-bioc/R/bin/Rscript -e "BiocCheck::BiocCheck('SingleCellExperiment_1.23.0.tar.gz')" StartedAt: 2023-10-24 10:48:14 -0400 (Tue, 24 Oct 2023) EndedAt: 2023-10-24 10:49:06 -0400 (Tue, 24 Oct 2023) EllapsedTime: 51.7 seconds RetCode: None Status: WARNINGS Warnings: 1