Package: S4Arrays Version: 1.2.1 Command: /home/hpages/bbs-3.18-bioc-R41/R/bin/R CMD check --install=check:S4Arrays.install-out.txt --library=/home/hpages/bbs-3.18-bioc-R41/R/site-library --timings S4Arrays_1.2.1.tar.gz StartedAt: 2024-03-08 16:14:41 -0500 (Fri, 08 Mar 2024) EndedAt: 2024-03-08 16:16:56 -0500 (Fri, 08 Mar 2024) EllapsedTime: 134.7 seconds RetCode: 0 Status: OK CheckDir: S4Arrays.Rcheck Warnings: 0