Package: S4Arrays Version: 1.2.1 Command: /home/hpages/bbs-3.18-bioc-R41/R/bin/R CMD build --keep-empty-dirs --no-resave-data S4Arrays StartedAt: 2024-03-08 15:49:53 -0500 (Fri, 08 Mar 2024) EndedAt: 2024-03-08 15:50:16 -0500 (Fri, 08 Mar 2024) EllapsedTime: 23.3 seconds RetCode: 0 Status: OK PackageFile: S4Arrays_1.2.1.tar.gz PackageFileSize: 275.4 KiB