Package: Rhdf5lib Version: 1.24.2 Command: /home/hpages/bbs-3.18-bioc-R41/R/bin/R CMD INSTALL Rhdf5lib StartedAt: 2024-03-08 15:28:21 -0500 (Fri, 08 Mar 2024) EndedAt: 2024-03-08 15:32:01 -0500 (Fri, 08 Mar 2024) EllapsedTime: 219.5 seconds RetCode: 0 Status: OK