Package: Rhdf5lib Version: 1.24.2 Command: /home/hpages/bbs-3.18-bioc-R41/R/bin/R CMD build --keep-empty-dirs --no-resave-data Rhdf5lib StartedAt: 2024-03-08 15:48:38 -0500 (Fri, 08 Mar 2024) EndedAt: 2024-03-08 15:52:45 -0500 (Fri, 08 Mar 2024) EllapsedTime: 247.4 seconds RetCode: 0 Status: OK PackageFile: Rhdf5lib_1.24.2.tar.gz PackageFileSize: 11.5 MiB