Package: Rhdf5lib Version: 1.23.2 Command: /home/biocbuild/bbs-3.18-bioc/R/bin/Rscript -e "BiocCheck::BiocCheck('Rhdf5lib_1.23.2.tar.gz')" StartedAt: 2023-10-24 10:47:57 -0400 (Tue, 24 Oct 2023) EndedAt: 2023-10-24 10:51:32 -0400 (Tue, 24 Oct 2023) EllapsedTime: 215.0 seconds RetCode: None Status: ERROR Warnings: 3