Package: BiocGenerics Version: 0.48.1 Command: /home/hpages/bbs-3.18-bioc-R41/R/bin/R CMD INSTALL BiocGenerics StartedAt: 2024-03-08 15:28:38 -0500 (Fri, 08 Mar 2024) EndedAt: 2024-03-08 15:28:43 -0500 (Fri, 08 Mar 2024) EllapsedTime: 4.7 seconds RetCode: 0 Status: OK