Package: BiocGenerics Version: 0.48.1 Command: /home/hpages/bbs-3.18-bioc-R41/R/bin/R CMD build --keep-empty-dirs --no-resave-data BiocGenerics StartedAt: 2024-03-08 15:41:34 -0500 (Fri, 08 Mar 2024) EndedAt: 2024-03-08 15:41:35 -0500 (Fri, 08 Mar 2024) EllapsedTime: 1.0 seconds RetCode: 0 Status: OK PackageFile: BiocGenerics_0.48.1.tar.gz PackageFileSize: 48.36 KiB