Package: AnnotationDbi Version: 1.64.1 Command: /home/hpages/bbs-3.18-bioc-R41/R/bin/R CMD check --install=check:AnnotationDbi.install-out.txt --library=/home/hpages/bbs-3.18-bioc-R41/R/site-library --timings AnnotationDbi_1.64.1.tar.gz StartedAt: 2024-03-08 16:01:13 -0500 (Fri, 08 Mar 2024) EndedAt: 2024-03-08 16:05:55 -0500 (Fri, 08 Mar 2024) EllapsedTime: 282.6 seconds RetCode: 0 Status: OK CheckDir: AnnotationDbi.Rcheck Warnings: 0