Package: spkTools Version: 1.58.0 Command: /Library/Frameworks/R.framework/Resources/bin/R CMD check --install=check:spkTools.install-out.txt --library=/Library/Frameworks/R.framework/Resources/library --no-vignettes --timings spkTools_1.58.0.tar.gz StartedAt: 2024-04-18 05:01:46 -0400 (Thu, 18 Apr 2024) EndedAt: 2024-04-18 05:04:00 -0400 (Thu, 18 Apr 2024) EllapsedTime: 134.6 seconds RetCode: 0 Status: OK CheckDir: spkTools.Rcheck Warnings: 0