Package: arrayQualityMetrics Version: 3.58.0 Command: /Library/Frameworks/R.framework/Resources/bin/R CMD check --install=check:arrayQualityMetrics.install-out.txt --library=/Library/Frameworks/R.framework/Resources/library --no-vignettes --timings arrayQualityMetrics_3.58.0.tar.gz StartedAt: 2024-04-17 05:52:21 -0400 (Wed, 17 Apr 2024) EndedAt: 2024-04-17 05:55:22 -0400 (Wed, 17 Apr 2024) EllapsedTime: 180.8 seconds RetCode: 0 Status: OK CheckDir: arrayQualityMetrics.Rcheck Warnings: 0