Package: arrayQualityMetrics Version: 3.58.0 Command: rm -rf arrayQualityMetrics.buildbin-libdir && mkdir arrayQualityMetrics.buildbin-libdir && /Users/biocbuild/BBS/utils/build-universal.sh arrayQualityMetrics_3.58.0.tar.gz /Library/Frameworks/R.framework/Resources/bin/R arrayQualityMetrics.buildbin-libdir StartedAt: 2024-04-18 08:13:57 -0400 (Thu, 18 Apr 2024) EndedAt: 2024-04-18 08:14:37 -0400 (Thu, 18 Apr 2024) EllapsedTime: 39.9 seconds RetCode: 0 Status: OK PackageFile: arrayQualityMetrics_3.58.0.tgz PackageFileSize: 556.5 KiB