Package: TreeSummarizedExperiment Version: 2.10.0 Command: /Library/Frameworks/R.framework/Resources/bin/R CMD build --keep-empty-dirs --no-resave-data TreeSummarizedExperiment StartedAt: 2024-04-17 04:18:12 -0400 (Wed, 17 Apr 2024) EndedAt: 2024-04-17 04:19:26 -0400 (Wed, 17 Apr 2024) EllapsedTime: 74.0 seconds RetCode: 0 Status: OK PackageFile: TreeSummarizedExperiment_2.10.0.tar.gz PackageFileSize: 1.104 MiB