Package: TreeSummarizedExperiment Version: 2.10.0 Command: rm -rf TreeSummarizedExperiment.buildbin-libdir && mkdir TreeSummarizedExperiment.buildbin-libdir && /Users/biocbuild/BBS/utils/build-universal.sh TreeSummarizedExperiment_2.10.0.tar.gz /Library/Frameworks/R.framework/Resources/bin/R TreeSummarizedExperiment.buildbin-libdir StartedAt: 2024-04-15 10:50:30 -0400 (Mon, 15 Apr 2024) EndedAt: 2024-04-15 10:51:20 -0400 (Mon, 15 Apr 2024) EllapsedTime: 49.9 seconds RetCode: 0 Status: OK PackageFile: TreeSummarizedExperiment_2.10.0.tgz PackageFileSize: 1.865 MiB