Package: VplotR Version: 1.12.1 Command: /home/biocbuild/bbs-3.18-bioc/R/bin/R CMD INSTALL VplotR StartedAt: 2024-04-15 15:17:47 -0400 (Mon, 15 Apr 2024) EndedAt: 2024-04-15 15:18:18 -0400 (Mon, 15 Apr 2024) EllapsedTime: 30.0 seconds RetCode: 0 Status: OK