Package: SparseArray Version: 1.2.4 Command: /home/biocbuild/bbs-3.18-bioc/R/bin/R CMD INSTALL SparseArray StartedAt: 2024-04-15 15:09:56 -0400 (Mon, 15 Apr 2024) EndedAt: 2024-04-15 15:10:37 -0400 (Mon, 15 Apr 2024) EllapsedTime: 41.4 seconds RetCode: 0 Status: OK