Package: ReactomeGSA Version: 1.16.1 Command: /home/biocbuild/bbs-3.18-bioc/R/bin/R CMD check --install=check:ReactomeGSA.install-out.txt --library=/home/biocbuild/bbs-3.18-bioc/R/site-library --timings ReactomeGSA_1.16.1.tar.gz StartedAt: 2024-04-16 02:49:30 -0400 (Tue, 16 Apr 2024) EndedAt: 2024-04-16 03:07:31 -0400 (Tue, 16 Apr 2024) EllapsedTime: 1081.0 seconds RetCode: 0 Status: OK CheckDir: ReactomeGSA.Rcheck Warnings: 0