Package: ReactomeContentService4R Version: 1.10.0 Command: /home/biocbuild/R/R-4.3.1/bin/R CMD build --keep-empty-dirs --no-resave-data ReactomeContentService4R StartedAt: 2023-11-02 05:02:37 -0000 (Thu, 02 Nov 2023) EndedAt: 2023-11-02 05:03:55 -0000 (Thu, 02 Nov 2023) EllapsedTime: 77.1 seconds RetCode: 0 Status: OK PackageFile: ReactomeContentService4R_1.10.0.tar.gz PackageFileSize: 2.35 MiB