Package: arrays Version: 1.26.0 Command: /home/biocbuild/bbs-3.17-bioc/R/bin/R CMD INSTALL arrays StartedAt: 2023-10-13 08:00:08 -0400 (Fri, 13 Oct 2023) EndedAt: 2023-10-13 08:00:12 -0400 (Fri, 13 Oct 2023) EllapsedTime: 3.9 seconds RetCode: 0 Status: OK