Package: arrays Version: 1.26.0 Command: /Library/Frameworks/R.framework/Resources/bin/R CMD INSTALL arrays StartedAt: 2023-10-13 11:00:16 -0400 (Fri, 13 Oct 2023) EndedAt: 2023-10-13 11:00:22 -0400 (Fri, 13 Oct 2023) EllapsedTime: 6.2 seconds RetCode: 0 Status: OK