Package: arrays Version: 1.26.0 Command: /Library/Frameworks/R.framework/Resources/bin/R CMD build --keep-empty-dirs --no-resave-data arrays StartedAt: 2023-10-13 11:03:20 -0400 (Fri, 13 Oct 2023) EndedAt: 2023-10-13 11:03:55 -0400 (Fri, 13 Oct 2023) EllapsedTime: 35.3 seconds RetCode: 0 Status: OK PackageFile: arrays_1.26.0.tar.gz PackageFileSize: 9.64 MiB