git_url: https://git.bioconductor.org/packages/arrays git_branch: RELEASE_3_17 git_last_commit: 9981a8c git_last_commit_date: 2023-04-25 09:45:12 -0400 (Tue, 25 Apr 2023) Package: arrays Version: 1.26.0 Maintainer: Bioconductor Package Maintainer MaintainerEmail: maintainer at bioconductor.org