Package: wiggleplotr Version: 1.23.0 Command: /home/biocbuild/bbs-3.17-bioc/R/bin/R CMD INSTALL wiggleplotr StartedAt: 2023-04-12 01:42:47 -0400 (Wed, 12 Apr 2023) EndedAt: 2023-04-12 01:42:54 -0400 (Wed, 12 Apr 2023) EllapsedTime: 7.0 seconds RetCode: 0 Status: OK