Package: transcriptR Version: 1.27.0 Command: /home/biocbuild/bbs-3.17-bioc/R/bin/R CMD check --install=check:transcriptR.install-out.txt --library=/home/biocbuild/bbs-3.17-bioc/R/site-library --timings transcriptR_1.27.0.tar.gz StartedAt: 2023-04-12 00:11:43 -0400 (Wed, 12 Apr 2023) EndedAt: 2023-04-12 00:19:12 -0400 (Wed, 12 Apr 2023) EllapsedTime: 449.3 seconds RetCode: 0 Status: OK CheckDir: transcriptR.Rcheck Warnings: 0