git_url: https://git.bioconductor.org/packages/trackViewer git_branch: devel git_last_commit: 23902fd git_last_commit_date: 2023-03-22 17:17:57 -0400 (Wed, 22 Mar 2023) Package: trackViewer Version: 1.35.5 Maintainer: Jianhong Ou MaintainerEmail: jianhong.ou at duke.edu