Package: tidySingleCellExperiment Version: 1.9.4 Command: /home/biocbuild/bbs-3.17-bioc/R/bin/R CMD build --keep-empty-dirs --no-resave-data tidySingleCellExperiment StartedAt: 2023-04-11 18:12:54 -0400 (Tue, 11 Apr 2023) EndedAt: 2023-04-11 18:13:58 -0400 (Tue, 11 Apr 2023) EllapsedTime: 64.6 seconds RetCode: 0 Status: OK PackageFile: tidySingleCellExperiment_1.9.4.tar.gz PackageFileSize: 1.178 MiB