Package: systemPipeR Version: 2.5.0 Command: /home/biocbuild/bbs-3.17-bioc/R/bin/R CMD build --keep-empty-dirs --no-resave-data systemPipeR StartedAt: 2023-04-11 18:11:01 -0400 (Tue, 11 Apr 2023) EndedAt: 2023-04-11 18:12:16 -0400 (Tue, 11 Apr 2023) EllapsedTime: 74.2 seconds RetCode: 0 Status: OK PackageFile: systemPipeR_2.5.0.tar.gz PackageFileSize: 7.052 MiB