git_url: https://git.bioconductor.org/packages/structToolbox git_branch: devel git_last_commit: 07fde4b git_last_commit_date: 2022-11-01 11:21:15 -0400 (Tue, 01 Nov 2022) Package: structToolbox Version: 1.11.0 Maintainer: Gavin Rhys Lloyd MaintainerEmail: g.r.lloyd at bham.ac.uk