Package: spatialHeatmap Version: 2.5.3 Command: /home/biocbuild/bbs-3.17-bioc/R/bin/R CMD build --keep-empty-dirs --no-resave-data spatialHeatmap StartedAt: 2023-04-12 04:15:54 -0400 (Wed, 12 Apr 2023) EndedAt: 2023-04-12 04:20:36 -0400 (Wed, 12 Apr 2023) EllapsedTime: 282.0 seconds RetCode: 0 Status: OK PackageFile: spatialHeatmap_2.5.3.tar.gz PackageFileSize: 22.01 MiB